BEGIN:VCALENDAR
VERSION:2.0
PRODID:-//hacksw/handcal//NONSGML v1.0//EN
CALSCALE:GREGORIAN
BEGIN:VEVENT
LOCATION:幕張メッセ
DESCRIPTION:
DTSTART:20220831T080000Z
DTEND:20220902T150000Z
SUMMARY:PV EXPO Tokyo Japan
URL;VALUE=URI:https://www.wsew.jp/hub/ja-jp/about/pv.html
DTSTAMP:20260425T103018Z
UID:69ec7b9a2abad
END:VEVENT
END:VCALENDAR